Package: Pviz Version: 1.36.0 Command: /Library/Frameworks/R.framework/Resources/bin/R CMD INSTALL Pviz StartedAt: 2024-04-15 15:57:55 -0400 (Mon, 15 Apr 2024) EndedAt: 2024-04-15 16:00:10 -0400 (Mon, 15 Apr 2024) EllapsedTime: 135.0 seconds RetCode: 0 Status: OK