Package: Pviz Version: 1.36.0 Command: chmod a+r Pviz -R && F:\biocbuild\bbs-3.18-bioc\R\bin\R.exe CMD build --keep-empty-dirs --no-resave-data Pviz StartedAt: 2024-04-15 20:26:59 -0400 (Mon, 15 Apr 2024) EndedAt: 2024-04-15 20:29:01 -0400 (Mon, 15 Apr 2024) EllapsedTime: 121.5 seconds RetCode: 0 Status: OK PackageFile: Pviz_1.36.0.tar.gz PackageFileSize: 199.2 KiB