Package: QTLExperiment Version: 1.0.0 Command: F:\biocbuild\bbs-3.18-bioc\R\bin\R.exe CMD check --no-multiarch --install=check:QTLExperiment.install-out.txt --library=F:\biocbuild\bbs-3.18-bioc\R\library --no-vignettes --timings QTLExperiment_1.0.0.tar.gz StartedAt: 2024-04-16 04:02:03 -0400 (Tue, 16 Apr 2024) EndedAt: 2024-04-16 04:05:38 -0400 (Tue, 16 Apr 2024) EllapsedTime: 214.8 seconds RetCode: 0 Status: OK CheckDir: QTLExperiment.Rcheck Warnings: 0