Package: QuartPAC Version: 1.34.0 Command: rm -rf QuartPAC.buildbin-libdir && mkdir QuartPAC.buildbin-libdir && /Users/biocbuild/BBS/utils/build-universal.sh QuartPAC_1.34.0.tar.gz /Library/Frameworks/R.framework/Resources/bin/R QuartPAC.buildbin-libdir StartedAt: 2024-03-04 00:57:50 -0500 (Mon, 04 Mar 2024) EndedAt: 2024-03-04 00:58:14 -0500 (Mon, 04 Mar 2024) EllapsedTime: 23.7 seconds RetCode: 0 Status: OK PackageFile: QuartPAC_1.34.0.tgz PackageFileSize: 644.7 KiB