Package: QuartPAC Version: 1.34.0 Command: /Library/Frameworks/R.framework/Resources/bin/R CMD INSTALL QuartPAC StartedAt: 2024-04-15 16:16:33 -0400 (Mon, 15 Apr 2024) EndedAt: 2024-04-15 16:17:07 -0400 (Mon, 15 Apr 2024) EllapsedTime: 33.8 seconds RetCode: 0 Status: OK