Package: QuartPAC Version: 1.34.0 Command: rm -rf QuartPAC.buildbin-libdir && mkdir QuartPAC.buildbin-libdir && F:\biocbuild\bbs-3.18-bioc\R\bin\R.exe CMD INSTALL --build --library=QuartPAC.buildbin-libdir QuartPAC_1.34.0.tar.gz StartedAt: 2024-04-16 07:29:31 -0400 (Tue, 16 Apr 2024) EndedAt: 2024-04-16 07:29:53 -0400 (Tue, 16 Apr 2024) EllapsedTime: 21.3 seconds RetCode: 0 Status: OK PackageFile: QuartPAC_1.34.0.zip PackageFileSize: 491.2 KiB