Package: QuartPAC Version: 1.34.0 Command: chmod a+r QuartPAC -R && F:\biocbuild\bbs-3.18-bioc\R\bin\R.exe CMD build --keep-empty-dirs --no-resave-data QuartPAC StartedAt: 2024-04-15 20:29:48 -0400 (Mon, 15 Apr 2024) EndedAt: 2024-04-15 20:30:49 -0400 (Mon, 15 Apr 2024) EllapsedTime: 61.0 seconds RetCode: 0 Status: OK PackageFile: QuartPAC_1.34.0.tar.gz PackageFileSize: 751.7 KiB