Package: QuartPAC Version: 1.34.0 Command: F:\biocbuild\bbs-3.18-bioc\R\bin\R.exe CMD INSTALL QuartPAC StartedAt: 2024-04-15 16:29:03 -0400 (Mon, 15 Apr 2024) EndedAt: 2024-04-15 16:29:23 -0400 (Mon, 15 Apr 2024) EllapsedTime: 20.4 seconds RetCode: 0 Status: OK