Package: R3CPET Version: 1.34.0 Command: /Library/Frameworks/R.framework/Resources/bin/R CMD build --keep-empty-dirs --no-resave-data R3CPET StartedAt: 2024-01-15 18:05:30 -0500 (Mon, 15 Jan 2024) EndedAt: 2024-01-15 18:05:46 -0500 (Mon, 15 Jan 2024) EllapsedTime: 15.8 seconds RetCode: 1 Status: ERROR PackageFile: None PackageFileSize: NA