Package: R3CPET Version: 1.34.1 Command: F:\biocbuild\bbs-3.18-bioc\R\bin\R.exe CMD INSTALL R3CPET StartedAt: 2024-04-15 16:17:39 -0400 (Mon, 15 Apr 2024) EndedAt: 2024-04-15 16:19:37 -0400 (Mon, 15 Apr 2024) EllapsedTime: 118.0 seconds RetCode: 0 Status: OK