Package: R4RNA Version: 1.30.0 Command: /home/biocbuild/bbs-3.18-bioc/R/bin/R CMD build --keep-empty-dirs --no-resave-data R4RNA StartedAt: 2024-04-15 18:41:38 -0400 (Mon, 15 Apr 2024) EndedAt: 2024-04-15 18:41:55 -0400 (Mon, 15 Apr 2024) EllapsedTime: 17.3 seconds RetCode: 0 Status: OK PackageFile: R4RNA_1.30.0.tar.gz PackageFileSize: 785.6 KiB