Package: R4RNA Version: 1.30.0 Command: /home/biocbuild/bbs-3.18-bioc/R/bin/R CMD INSTALL R4RNA StartedAt: 2024-04-15 15:11:30 -0400 (Mon, 15 Apr 2024) EndedAt: 2024-04-15 15:11:47 -0400 (Mon, 15 Apr 2024) EllapsedTime: 17.7 seconds RetCode: 0 Status: OK