Package: RAIDS Version: 1.0.0 Command: /home/biocbuild/R/R-4.3.1/bin/R CMD INSTALL RAIDS StartedAt: 2023-11-01 20:52:12 -0000 (Wed, 01 Nov 2023) EndedAt: 2023-11-01 20:53:25 -0000 (Wed, 01 Nov 2023) EllapsedTime: 73.4 seconds RetCode: 0 Status: OK