Package: RAIDS Version: 1.0.0 Command: rm -rf RAIDS.buildbin-libdir && mkdir RAIDS.buildbin-libdir && /Users/biocbuild/BBS/utils/build-universal.sh RAIDS_1.0.0.tar.gz /Library/Frameworks/R.framework/Resources/bin/R RAIDS.buildbin-libdir StartedAt: 2024-03-04 00:58:05 -0500 (Mon, 04 Mar 2024) EndedAt: 2024-03-04 00:59:26 -0500 (Mon, 04 Mar 2024) EllapsedTime: 81.4 seconds RetCode: 0 Status: OK PackageFile: RAIDS_1.0.0.tgz PackageFileSize: 2.039 MiB