Package: RAIDS Version: 1.0.0 Command: /home/biocbuild/bbs-3.18-bioc/R/bin/R CMD check --install=check:RAIDS.install-out.txt --library=/home/biocbuild/bbs-3.18-bioc/R/site-library --timings RAIDS_1.0.0.tar.gz StartedAt: 2024-04-16 02:42:24 -0400 (Tue, 16 Apr 2024) EndedAt: 2024-04-16 02:50:52 -0400 (Tue, 16 Apr 2024) EllapsedTime: 507.2 seconds RetCode: 0 Status: OK CheckDir: RAIDS.Rcheck Warnings: 0