Package: RAIDS Version: 1.0.0 Command: rm -rf RAIDS.buildbin-libdir && mkdir RAIDS.buildbin-libdir && F:\biocbuild\bbs-3.18-bioc\R\bin\R.exe CMD INSTALL --build --library=RAIDS.buildbin-libdir RAIDS_1.0.0.tar.gz StartedAt: 2024-04-16 07:30:05 -0400 (Tue, 16 Apr 2024) EndedAt: 2024-04-16 07:31:24 -0400 (Tue, 16 Apr 2024) EllapsedTime: 79.6 seconds RetCode: 0 Status: OK PackageFile: RAIDS_1.0.0.zip PackageFileSize: 2.048 MiB