Package: RAIDS Version: 1.0.0 Command: chmod a+r RAIDS -R && F:\biocbuild\bbs-3.18-bioc\R\bin\R.exe CMD build --keep-empty-dirs --no-resave-data RAIDS StartedAt: 2024-04-15 20:31:58 -0400 (Mon, 15 Apr 2024) EndedAt: 2024-04-15 20:34:01 -0400 (Mon, 15 Apr 2024) EllapsedTime: 122.5 seconds RetCode: 0 Status: OK PackageFile: RAIDS_1.0.0.tar.gz PackageFileSize: 2.767 MiB