Package: RBGL Version: 1.78.0 Command: /home/biocbuild/R/R-4.3.1/bin/R CMD check --install=check:RBGL.install-out.txt --library=/home/biocbuild/R/R-4.3.1/site-library --no-vignettes --timings RBGL_1.78.0.tar.gz StartedAt: 2023-11-02 13:29:46 -0000 (Thu, 02 Nov 2023) EndedAt: 2023-11-02 13:30:22 -0000 (Thu, 02 Nov 2023) EllapsedTime: 36.2 seconds RetCode: 0 Status: WARNINGS CheckDir: RBGL.Rcheck Warnings: 1