Package: RBGL Version: 1.78.0 Command: /home/biocbuild/bbs-3.18-bioc/R/bin/R CMD check --install=check:RBGL.install-out.txt --library=/home/biocbuild/bbs-3.18-bioc/R/site-library --timings RBGL_1.78.0.tar.gz StartedAt: 2024-04-16 02:44:51 -0400 (Tue, 16 Apr 2024) EndedAt: 2024-04-16 02:45:59 -0400 (Tue, 16 Apr 2024) EllapsedTime: 68.0 seconds RetCode: 0 Status: WARNINGS CheckDir: RBGL.Rcheck Warnings: 1