Package: RBM Version: 1.34.0 Command: /home/biocbuild/R/R-4.3.1/bin/R CMD check --install=check:RBM.install-out.txt --library=/home/biocbuild/R/R-4.3.1/site-library --no-vignettes --timings RBM_1.34.0.tar.gz StartedAt: 2023-11-02 13:30:01 -0000 (Thu, 02 Nov 2023) EndedAt: 2023-11-02 13:30:47 -0000 (Thu, 02 Nov 2023) EllapsedTime: 46.2 seconds RetCode: 0 Status: OK CheckDir: RBM.Rcheck Warnings: 0