Package: RCAS Version: 1.28.2 Command: /home/biocbuild/R/R-4.3.1/bin/R CMD build --keep-empty-dirs --no-resave-data RCAS StartedAt: 2023-11-02 04:59:16 -0000 (Thu, 02 Nov 2023) EndedAt: 2023-11-02 05:02:19 -0000 (Thu, 02 Nov 2023) EllapsedTime: 183.2 seconds RetCode: 0 Status: OK PackageFile: RCAS_1.28.2.tar.gz PackageFileSize: 1.482 MiB