Package: RCAS Version: 1.28.2 Command: /home/biocbuild/R/R-4.3.1/bin/R CMD INSTALL RCAS StartedAt: 2023-11-01 20:36:38 -0000 (Wed, 01 Nov 2023) EndedAt: 2023-11-01 20:37:41 -0000 (Wed, 01 Nov 2023) EllapsedTime: 62.7 seconds RetCode: 0 Status: OK