Package: RCAS Version: 1.28.3 Command: rm -rf RCAS.buildbin-libdir && mkdir RCAS.buildbin-libdir && /Users/biocbuild/BBS/utils/build-universal.sh RCAS_1.28.3.tar.gz /Library/Frameworks/R.framework/Resources/bin/R RCAS.buildbin-libdir StartedAt: 2024-04-16 12:30:28 -0400 (Tue, 16 Apr 2024) EndedAt: 2024-04-16 12:32:06 -0400 (Tue, 16 Apr 2024) EllapsedTime: 98.1 seconds RetCode: 0 Status: OK PackageFile: RCAS_1.28.3.tgz PackageFileSize: 2.108 MiB