Package: RCAS Version: 1.28.3 Command: /Library/Frameworks/R.framework/Resources/bin/R CMD check --install=check:RCAS.install-out.txt --library=/Library/Frameworks/R.framework/Resources/library --no-vignettes --timings RCAS_1.28.3.tar.gz StartedAt: 2024-04-16 07:30:07 -0400 (Tue, 16 Apr 2024) EndedAt: 2024-04-16 07:48:11 -0400 (Tue, 16 Apr 2024) EllapsedTime: 1084.2 seconds RetCode: 0 Status: OK CheckDir: RCAS.Rcheck Warnings: 0