Package: RCX Version: 1.6.0 Command: rm -rf RCX.buildbin-libdir && mkdir RCX.buildbin-libdir && /Users/biocbuild/BBS/utils/build-universal.sh RCX_1.6.0.tar.gz /Library/Frameworks/R.framework/Resources/bin/R RCX.buildbin-libdir StartedAt: 2024-03-04 00:58:38 -0500 (Mon, 04 Mar 2024) EndedAt: 2024-03-04 00:58:51 -0500 (Mon, 04 Mar 2024) EllapsedTime: 13.3 seconds RetCode: 0 Status: OK PackageFile: RCX_1.6.0.tgz PackageFileSize: 3.594 MiB