Package: RCX Version: 1.6.0 Command: /Library/Frameworks/R.framework/Resources/bin/R CMD INSTALL RCX StartedAt: 2024-03-03 15:07:38 -0500 (Sun, 03 Mar 2024) EndedAt: 2024-03-03 15:08:08 -0500 (Sun, 03 Mar 2024) EllapsedTime: 30.0 seconds RetCode: 0 Status: OK