Package: RCX Version: 1.6.0 Command: /Library/Frameworks/R.framework/Resources/bin/R CMD INSTALL RCX StartedAt: 2024-04-15 15:10:52 -0400 (Mon, 15 Apr 2024) EndedAt: 2024-04-15 15:11:15 -0400 (Mon, 15 Apr 2024) EllapsedTime: 23.2 seconds RetCode: 0 Status: OK