Package: RCy3 Version: 2.22.1 Maintainer: Alex Pico MaintainerEmail: alex.pico at gladstone.ucsf.edu git_url: https://git.bioconductor.org/packages/RCy3 git_branch: RELEASE_3_18 git_last_commit: cd4cb1b git_last_commit_date: 2023-11-06 19:33:18 -0400 (Mon, 06 Nov 2023)