Package: REMP Version: 1.26.0 Command: rm -rf REMP.buildbin-libdir && mkdir REMP.buildbin-libdir && /Users/biocbuild/BBS/utils/build-universal.sh REMP_1.26.0.tar.gz /Library/Frameworks/R.framework/Resources/bin/R REMP.buildbin-libdir StartedAt: 2024-04-16 12:31:56 -0400 (Tue, 16 Apr 2024) EndedAt: 2024-04-16 12:33:57 -0400 (Tue, 16 Apr 2024) EllapsedTime: 121.1 seconds RetCode: 0 Status: OK PackageFile: REMP_1.26.0.tgz PackageFileSize: 692.5 KiB