Package: RGSEA Version: 1.36.0 Command: rm -rf RGSEA.buildbin-libdir && mkdir RGSEA.buildbin-libdir && /Users/biocbuild/BBS/utils/build-universal.sh RGSEA_1.36.0.tar.gz /Library/Frameworks/R.framework/Resources/bin/R RGSEA.buildbin-libdir StartedAt: 2024-03-04 00:59:45 -0500 (Mon, 04 Mar 2024) EndedAt: 2024-03-04 00:59:51 -0500 (Mon, 04 Mar 2024) EllapsedTime: 5.8 seconds RetCode: 0 Status: OK PackageFile: RGSEA_1.36.0.tgz PackageFileSize: 1.748 MiB