Package: RIPAT Version: 1.12.0 Command: /home/biocbuild/R/R-4.3.1/bin/R CMD INSTALL RIPAT StartedAt: 2023-11-01 20:58:27 -0000 (Wed, 01 Nov 2023) EndedAt: 2023-11-01 20:58:32 -0000 (Wed, 01 Nov 2023) EllapsedTime: 5.2 seconds RetCode: 0 Status: OK