Package: RIPAT Version: 1.12.0 Command: /Library/Frameworks/R.framework/Resources/bin/R CMD build --keep-empty-dirs --no-resave-data RIPAT StartedAt: 2024-03-03 18:02:20 -0500 (Sun, 03 Mar 2024) EndedAt: 2024-03-03 18:16:34 -0500 (Sun, 03 Mar 2024) EllapsedTime: 854.1 seconds RetCode: 0 Status: OK PackageFile: RIPAT_1.12.0.tar.gz PackageFileSize: 4.283 MiB