Package: RIPAT Version: 1.12.0 Command: /home/biocbuild/bbs-3.18-bioc/R/bin/R CMD build --keep-empty-dirs --no-resave-data RIPAT StartedAt: 2024-04-15 18:51:48 -0400 (Mon, 15 Apr 2024) EndedAt: 2024-04-15 19:03:32 -0400 (Mon, 15 Apr 2024) EllapsedTime: 703.9 seconds RetCode: 0 Status: OK PackageFile: RIPAT_1.12.0.tar.gz PackageFileSize: 4.259 MiB