Package: RIPAT Version: 1.12.0 Command: rm -rf RIPAT.buildbin-libdir && mkdir RIPAT.buildbin-libdir && F:\biocbuild\bbs-3.18-bioc\R\bin\R.exe CMD INSTALL --build --library=RIPAT.buildbin-libdir RIPAT_1.12.0.tar.gz StartedAt: 2024-04-16 07:33:49 -0400 (Tue, 16 Apr 2024) EndedAt: 2024-04-16 07:33:59 -0400 (Tue, 16 Apr 2024) EllapsedTime: 9.3 seconds RetCode: 0 Status: OK PackageFile: RIPAT_1.12.0.zip PackageFileSize: 2.548 MiB