Package: RIPAT Version: 1.12.0 Command: chmod a+r RIPAT -R && F:\biocbuild\bbs-3.18-bioc\R\bin\R.exe CMD build --keep-empty-dirs --no-resave-data RIPAT StartedAt: 2024-04-15 20:43:20 -0400 (Mon, 15 Apr 2024) EndedAt: 2024-04-15 20:56:12 -0400 (Mon, 15 Apr 2024) EllapsedTime: 772.3 seconds RetCode: 0 Status: OK PackageFile: RIPAT_1.12.0.tar.gz PackageFileSize: 3.9 MiB