Package: RIVER Version: 1.26.0 Maintainer: Yungil Kim MaintainerEmail: ipw012 at gmail.com git_url: https://git.bioconductor.org/packages/RIVER git_branch: RELEASE_3_18 git_last_commit: 44ad7c6 git_last_commit_date: 2023-10-24 10:56:36 -0400 (Tue, 24 Oct 2023)