Package: RIVER Version: 1.26.0 Command: /home/biocbuild/R/R-4.3.1/bin/R CMD check --install=check:RIVER.install-out.txt --library=/home/biocbuild/R/R-4.3.1/site-library --no-vignettes --timings RIVER_1.26.0.tar.gz StartedAt: 2023-11-02 13:45:55 -0000 (Thu, 02 Nov 2023) EndedAt: 2023-11-02 13:47:46 -0000 (Thu, 02 Nov 2023) EllapsedTime: 111.2 seconds RetCode: 0 Status: OK CheckDir: RIVER.Rcheck Warnings: 0