Package: RIVER Version: 1.26.0 Command: /home/biocbuild/R/R-4.3.1/bin/R CMD INSTALL RIVER StartedAt: 2023-11-01 20:47:02 -0000 (Wed, 01 Nov 2023) EndedAt: 2023-11-01 20:47:14 -0000 (Wed, 01 Nov 2023) EllapsedTime: 11.8 seconds RetCode: 0 Status: OK