Package: RIVER Version: 1.26.0 Command: /Library/Frameworks/R.framework/Resources/bin/R CMD check --install=check:RIVER.install-out.txt --library=/Library/Frameworks/R.framework/Resources/library --no-vignettes --timings RIVER_1.26.0.tar.gz StartedAt: 2024-04-16 07:52:47 -0400 (Tue, 16 Apr 2024) EndedAt: 2024-04-16 07:55:34 -0400 (Tue, 16 Apr 2024) EllapsedTime: 167.3 seconds RetCode: 0 Status: OK CheckDir: RIVER.Rcheck Warnings: 0