Package: RLMM Version: 1.64.0 Command: rm -rf RLMM.buildbin-libdir && mkdir RLMM.buildbin-libdir && /Users/biocbuild/BBS/utils/build-universal.sh RLMM_1.64.0.tar.gz /Library/Frameworks/R.framework/Resources/bin/R RLMM.buildbin-libdir StartedAt: 2024-03-04 01:00:24 -0500 (Mon, 04 Mar 2024) EndedAt: 2024-03-04 01:00:30 -0500 (Mon, 04 Mar 2024) EllapsedTime: 5.7 seconds RetCode: 0 Status: OK PackageFile: RLMM_1.64.0.tgz PackageFileSize: 371.4 KiB