Package: RLMM Version: 1.64.0 Command: /Library/Frameworks/R.framework/Resources/bin/R CMD build --keep-empty-dirs --no-resave-data RLMM StartedAt: 2024-03-03 18:02:46 -0500 (Sun, 03 Mar 2024) EndedAt: 2024-03-03 18:02:57 -0500 (Sun, 03 Mar 2024) EllapsedTime: 11.4 seconds RetCode: 0 Status: OK PackageFile: RLMM_1.64.0.tar.gz PackageFileSize: 419.5 KiB