Package: RLMM Version: 1.64.0 Command: rm -rf RLMM.buildbin-libdir && mkdir RLMM.buildbin-libdir && /Users/biocbuild/BBS/utils/build-universal.sh RLMM_1.64.0.tar.gz /Library/Frameworks/R.framework/Resources/bin/R RLMM.buildbin-libdir StartedAt: 2024-04-16 12:34:28 -0400 (Tue, 16 Apr 2024) EndedAt: 2024-04-16 12:34:34 -0400 (Tue, 16 Apr 2024) EllapsedTime: 5.3 seconds RetCode: 0 Status: OK PackageFile: RLMM_1.64.0.tgz PackageFileSize: 371.9 KiB