Package: RLMM Version: 1.64.0 Command: /Library/Frameworks/R.framework/Resources/bin/R CMD build --keep-empty-dirs --no-resave-data RLMM StartedAt: 2024-04-15 21:21:14 -0400 (Mon, 15 Apr 2024) EndedAt: 2024-04-15 21:21:30 -0400 (Mon, 15 Apr 2024) EllapsedTime: 16.1 seconds RetCode: 0 Status: OK PackageFile: RLMM_1.64.0.tar.gz PackageFileSize: 420 KiB