Package: RLMM Version: 1.64.0 Command: /Library/Frameworks/R.framework/Resources/bin/R CMD INSTALL RLMM StartedAt: 2024-04-15 15:04:15 -0400 (Mon, 15 Apr 2024) EndedAt: 2024-04-15 15:04:31 -0400 (Mon, 15 Apr 2024) EllapsedTime: 16.7 seconds RetCode: 0 Status: OK