Package: RNAAgeCalc Version: 1.14.0 Command: /home/biocbuild/R/R-4.3.1/bin/R CMD build --keep-empty-dirs --no-resave-data RNAAgeCalc StartedAt: 2023-11-02 05:23:19 -0000 (Thu, 02 Nov 2023) EndedAt: 2023-11-02 05:24:50 -0000 (Thu, 02 Nov 2023) EllapsedTime: 90.1 seconds RetCode: 0 Status: OK PackageFile: RNAAgeCalc_1.14.0.tar.gz PackageFileSize: 3.34 MiB