Package: RNAAgeCalc Version: 1.14.0 Command: /home/biocbuild/R/R-4.3.1/bin/R CMD INSTALL RNAAgeCalc StartedAt: 2023-11-01 20:38:30 -0000 (Wed, 01 Nov 2023) EndedAt: 2023-11-01 20:39:44 -0000 (Wed, 01 Nov 2023) EllapsedTime: 74.3 seconds RetCode: 0 Status: OK