Package: RNAAgeCalc Version: 1.14.0 Command: /Library/Frameworks/R.framework/Resources/bin/R CMD INSTALL RNAAgeCalc StartedAt: 2024-03-03 15:29:50 -0500 (Sun, 03 Mar 2024) EndedAt: 2024-03-03 15:31:07 -0500 (Sun, 03 Mar 2024) EllapsedTime: 76.7 seconds RetCode: 0 Status: OK