Package: RNAAgeCalc Version: 1.14.0 Command: /home/biocbuild/bbs-3.18-bioc/R/bin/R CMD INSTALL RNAAgeCalc StartedAt: 2024-04-15 15:33:09 -0400 (Mon, 15 Apr 2024) EndedAt: 2024-04-15 15:34:01 -0400 (Mon, 15 Apr 2024) EllapsedTime: 52.1 seconds RetCode: 0 Status: OK