Package: RNAAgeCalc Version: 1.14.0 Command: rm -rf RNAAgeCalc.buildbin-libdir && mkdir RNAAgeCalc.buildbin-libdir && F:\biocbuild\bbs-3.18-bioc\R\bin\R.exe CMD INSTALL --build --library=RNAAgeCalc.buildbin-libdir RNAAgeCalc_1.14.0.tar.gz StartedAt: 2024-04-16 07:34:24 -0400 (Tue, 16 Apr 2024) EndedAt: 2024-04-16 07:35:35 -0400 (Tue, 16 Apr 2024) EllapsedTime: 70.8 seconds RetCode: 0 Status: OK PackageFile: RNAAgeCalc_1.14.0.zip PackageFileSize: 3.428 MiB