Package: RNAAgeCalc Version: 1.14.0 Command: chmod a+r RNAAgeCalc -R && F:\biocbuild\bbs-3.18-bioc\R\bin\R.exe CMD build --keep-empty-dirs --no-resave-data RNAAgeCalc StartedAt: 2024-04-15 20:44:39 -0400 (Mon, 15 Apr 2024) EndedAt: 2024-04-15 20:46:04 -0400 (Mon, 15 Apr 2024) EllapsedTime: 84.9 seconds RetCode: 0 Status: OK PackageFile: RNAAgeCalc_1.14.0.tar.gz PackageFileSize: 3.29 MiB